Package: psygenet2r Version: 1.36.0 Command: /Library/Frameworks/R.framework/Resources/bin/R CMD build --keep-empty-dirs --no-resave-data psygenet2r StartedAt: 2024-06-09 17:47:37 -0400 (Sun, 09 Jun 2024) EndedAt: 2024-06-09 17:54:49 -0400 (Sun, 09 Jun 2024) EllapsedTime: 431.4 seconds RetCode: 0 Status: OK PackageFile: psygenet2r_1.36.0.tar.gz PackageFileSize: 3.143 MiB