Package: psygenet2r Version: 1.36.0 Command: /Library/Frameworks/R.framework/Resources/bin/R CMD check --install=check:psygenet2r.install-out.txt --library=/Library/Frameworks/R.framework/Resources/library --no-vignettes --timings psygenet2r_1.36.0.tar.gz StartedAt: 2024-10-14 10:08:46 -0400 (Mon, 14 Oct 2024) EndedAt: 2024-10-14 10:15:28 -0400 (Mon, 14 Oct 2024) EllapsedTime: 401.6 seconds RetCode: 1 Status: ERROR CheckDir: psygenet2r.Rcheck Warnings: NA