Package: psygenet2r Version: 1.36.0 Command: chmod a+r psygenet2r -R && E:\biocbuild\bbs-3.19-bioc\R\bin\R.exe CMD build --keep-empty-dirs --no-resave-data psygenet2r StartedAt: 2024-10-16 21:15:28 -0400 (Wed, 16 Oct 2024) EndedAt: 2024-10-16 21:16:23 -0400 (Wed, 16 Oct 2024) EllapsedTime: 54.5 seconds RetCode: 1 Status: ERROR PackageFile: None PackageFileSize: NA