Package: puma Version: 3.46.0 Command: rm -rf puma.buildbin-libdir && mkdir puma.buildbin-libdir && /Users/biocbuild/BBS/utils/build-universal.sh puma_3.46.0.tar.gz /Library/Frameworks/R.framework/Resources/bin/R puma.buildbin-libdir StartedAt: 2024-10-18 20:03:35 -0400 (Fri, 18 Oct 2024) EndedAt: 2024-10-18 20:04:37 -0400 (Fri, 18 Oct 2024) EllapsedTime: 61.5 seconds RetCode: 0 Status: OK PackageFile: puma_3.46.0.tgz PackageFileSize: 4.069 MiB