Package: puma Version: 3.46.0 Command: /Library/Frameworks/R.framework/Resources/bin/R CMD build --keep-empty-dirs --no-resave-data puma StartedAt: 2024-10-17 06:50:06 -0400 (Thu, 17 Oct 2024) EndedAt: 2024-10-17 06:51:57 -0400 (Thu, 17 Oct 2024) EllapsedTime: 110.3 seconds RetCode: 0 Status: OK PackageFile: puma_3.46.0.tar.gz PackageFileSize: 3.405 MiB