Package: puma Version: 3.46.0 Command: /home/biocbuild/R/R-beta-2024-04-15_r86425/bin/R CMD build --keep-empty-dirs --no-resave-data puma StartedAt: 2024-05-09 02:39:46 -0000 (Thu, 09 May 2024) EndedAt: 2024-05-09 02:41:47 -0000 (Thu, 09 May 2024) EllapsedTime: 121.1 seconds RetCode: 0 Status: OK PackageFile: puma_3.46.0.tar.gz PackageFileSize: 3.398 MiB