Package: puma Version: 3.46.0 Command: rm -rf puma.buildbin-libdir && mkdir puma.buildbin-libdir && /Users/biocbuild/BBS/utils/build-universal.sh puma_3.46.0.tar.gz /Library/Frameworks/R.framework/Resources/bin/R puma.buildbin-libdir StartedAt: 2024-10-17 16:53:30 -0400 (Thu, 17 Oct 2024) EndedAt: 2024-10-17 16:55:22 -0400 (Thu, 17 Oct 2024) EllapsedTime: 111.8 seconds RetCode: 0 Status: OK PackageFile: puma_3.46.0.tgz PackageFileSize: 4.111 MiB