Package: puma Version: 3.46.0 Command: rm -rf puma.buildbin-libdir && mkdir puma.buildbin-libdir && F:\biocbuild\bbs-3.19-bioc\R\bin\R.exe CMD INSTALL --build --library=puma.buildbin-libdir puma_3.46.0.tar.gz StartedAt: 2024-06-27 08:42:50 -0400 (Thu, 27 Jun 2024) EndedAt: 2024-06-27 08:43:57 -0400 (Thu, 27 Jun 2024) EllapsedTime: 67.1 seconds RetCode: 0 Status: OK PackageFile: puma_3.46.0.zip PackageFileSize: 3.901 MiB