Package: puma Version: 3.46.0 Command: chmod a+r puma -R && F:\biocbuild\bbs-3.19-bioc\R\bin\R.exe CMD build --keep-empty-dirs --no-resave-data puma StartedAt: 2024-06-26 21:08:22 -0400 (Wed, 26 Jun 2024) EndedAt: 2024-06-26 21:10:34 -0400 (Wed, 26 Jun 2024) EllapsedTime: 132.0 seconds RetCode: 0 Status: OK PackageFile: puma_3.46.0.tar.gz PackageFileSize: 3.251 MiB