Package: puma Version: 3.46.0 Command: F:\biocbuild\bbs-3.19-bioc\R\bin\R.exe CMD check --no-multiarch --install=check:puma.install-out.txt --library=F:\biocbuild\bbs-3.19-bioc\R\library --no-vignettes --timings puma_3.46.0.tar.gz StartedAt: 2024-06-27 04:58:35 -0400 (Thu, 27 Jun 2024) EndedAt: 2024-06-27 05:04:45 -0400 (Thu, 27 Jun 2024) EllapsedTime: 370.2 seconds RetCode: 0 Status: OK CheckDir: puma.Rcheck Warnings: 0