Package: puma Version: 3.46.0 Command: rm -rf puma.buildbin-libdir && mkdir puma.buildbin-libdir && E:\biocbuild\bbs-3.19-bioc\R\bin\R.exe CMD INSTALL --build --library=puma.buildbin-libdir puma_3.46.0.tar.gz StartedAt: 2024-10-17 08:23:38 -0400 (Thu, 17 Oct 2024) EndedAt: 2024-10-17 08:24:48 -0400 (Thu, 17 Oct 2024) EllapsedTime: 69.8 seconds RetCode: 0 Status: OK PackageFile: puma_3.46.0.zip PackageFileSize: 3.9 MiB