Package: pvca Version: 1.44.0 Maintainer: Jianying LI MaintainerEmail: li11 at niehs.nih.gov git_url: https://git.bioconductor.org/packages/pvca git_branch: RELEASE_3_19 git_last_commit: aa9b186 git_last_commit_date: 2024-04-30 10:29:42 -0400 (Tue, 30 Apr 2024)