Package: pvca Version: 1.44.0 Command: rm -rf pvca.buildbin-libdir && mkdir pvca.buildbin-libdir && F:\biocbuild\bbs-3.19-bioc\R\bin\R.exe CMD INSTALL --build --library=pvca.buildbin-libdir pvca_1.44.0.tar.gz StartedAt: 2024-06-27 08:42:56 -0400 (Thu, 27 Jun 2024) EndedAt: 2024-06-27 08:43:11 -0400 (Thu, 27 Jun 2024) EllapsedTime: 15.3 seconds RetCode: 0 Status: OK PackageFile: pvca_1.44.0.zip PackageFileSize: 118.8 KiB