Package: qckitfastq Version: 1.20.0 Command: rm -rf qckitfastq.buildbin-libdir && mkdir qckitfastq.buildbin-libdir && /Users/biocbuild/BBS/utils/build-universal.sh qckitfastq_1.20.0.tar.gz /Library/Frameworks/R.framework/Resources/bin/R qckitfastq.buildbin-libdir StartedAt: 2024-10-18 20:04:37 -0400 (Fri, 18 Oct 2024) EndedAt: 2024-10-18 20:05:03 -0400 (Fri, 18 Oct 2024) EllapsedTime: 26.1 seconds RetCode: 0 Status: OK PackageFile: qckitfastq_1.20.0.tgz PackageFileSize: 1.064 MiB