Package: qckitfastq Version: 1.20.0 Command: rm -rf qckitfastq.buildbin-libdir && mkdir qckitfastq.buildbin-libdir && /Users/biocbuild/BBS/utils/build-universal.sh qckitfastq_1.20.0.tar.gz /Library/Frameworks/R.framework/Resources/bin/R qckitfastq.buildbin-libdir StartedAt: 2024-10-17 16:53:44 -0400 (Thu, 17 Oct 2024) EndedAt: 2024-10-17 16:54:31 -0400 (Thu, 17 Oct 2024) EllapsedTime: 47.6 seconds RetCode: 0 Status: OK PackageFile: qckitfastq_1.20.0.tgz PackageFileSize: 1.071 MiB