Package: qckitfastq Version: 1.20.0 Command: /home/biocbuild/bbs-3.19-bioc/R/bin/R CMD build --keep-empty-dirs --no-resave-data qckitfastq StartedAt: 2024-10-16 20:15:11 -0400 (Wed, 16 Oct 2024) EndedAt: 2024-10-16 20:15:45 -0400 (Wed, 16 Oct 2024) EllapsedTime: 34.1 seconds RetCode: 0 Status: OK PackageFile: qckitfastq_1.20.0.tar.gz PackageFileSize: 979.6 KiB