Package: qckitfastq Version: 1.20.0 Command: chmod a+r qckitfastq -R && F:\biocbuild\bbs-3.19-bioc\R\bin\R.exe CMD build --keep-empty-dirs --no-resave-data qckitfastq StartedAt: 2024-06-26 21:09:05 -0400 (Wed, 26 Jun 2024) EndedAt: 2024-06-26 21:10:11 -0400 (Wed, 26 Jun 2024) EllapsedTime: 65.8 seconds RetCode: 1 Status: ERROR PackageFile: None PackageFileSize: NA