Package: qmtools Version: 1.8.0 Command: /Library/Frameworks/R.framework/Resources/bin/R CMD INSTALL qmtools StartedAt: 2024-10-16 16:33:54 -0400 (Wed, 16 Oct 2024) EndedAt: 2024-10-16 16:34:50 -0400 (Wed, 16 Oct 2024) EllapsedTime: 56.1 seconds RetCode: 0 Status: OK