Package: qmtools Version: 1.8.0 Command: E:\biocbuild\bbs-3.19-bioc\R\bin\R.exe CMD INSTALL qmtools StartedAt: 2024-10-16 17:10:04 -0400 (Wed, 16 Oct 2024) EndedAt: 2024-10-16 17:10:40 -0400 (Wed, 16 Oct 2024) EllapsedTime: 35.1 seconds RetCode: 0 Status: OK