Package: qsea Version: 1.30.0 Command: rm -rf qsea.buildbin-libdir && mkdir qsea.buildbin-libdir && /Users/biocbuild/BBS/utils/build-universal.sh qsea_1.30.0.tar.gz /Library/Frameworks/R.framework/Resources/bin/R qsea.buildbin-libdir StartedAt: 2024-10-17 16:54:23 -0400 (Thu, 17 Oct 2024) EndedAt: 2024-10-17 16:55:46 -0400 (Thu, 17 Oct 2024) EllapsedTime: 82.6 seconds RetCode: 0 Status: OK PackageFile: qsea_1.30.0.tgz PackageFileSize: 1.109 MiB