Package: qsea Version: 1.30.0 Command: /Library/Frameworks/R.framework/Resources/bin/R CMD build --keep-empty-dirs --no-resave-data qsea StartedAt: 2024-10-16 22:19:05 -0400 (Wed, 16 Oct 2024) EndedAt: 2024-10-16 22:22:06 -0400 (Wed, 16 Oct 2024) EllapsedTime: 181.5 seconds RetCode: 0 Status: OK PackageFile: qsea_1.30.0.tar.gz PackageFileSize: 824.9 KiB