Package: qsvaR Version: 1.8.0 Command: /Library/Frameworks/R.framework/Resources/bin/R CMD INSTALL qsvaR StartedAt: 2024-06-09 17:01:22 -0400 (Sun, 09 Jun 2024) EndedAt: 2024-06-09 17:02:03 -0400 (Sun, 09 Jun 2024) EllapsedTime: 40.8 seconds RetCode: 0 Status: OK