Package: qsvaR Version: 1.8.0 Command: /home/biocbuild/R/R-beta-2024-04-15_r86425/bin/R CMD INSTALL qsvaR StartedAt: 2024-05-08 20:51:56 -0000 (Wed, 08 May 2024) EndedAt: 2024-05-08 20:52:36 -0000 (Wed, 08 May 2024) EllapsedTime: 39.5 seconds RetCode: 0 Status: OK