Package: qsvaR Version: 1.8.0 Command: /Library/Frameworks/R.framework/Resources/bin/R CMD build --keep-empty-dirs --no-resave-data qsvaR StartedAt: 2024-10-16 22:19:32 -0400 (Wed, 16 Oct 2024) EndedAt: 2024-10-16 22:39:34 -0400 (Wed, 16 Oct 2024) EllapsedTime: 1201.5 seconds RetCode: 0 Status: OK PackageFile: qsvaR_1.8.0.tar.gz PackageFileSize: 3.485 MiB