Package: qsvaR Version: 1.8.0 Command: /home/biocbuild/bbs-3.19-bioc/R/bin/R CMD build --keep-empty-dirs --no-resave-data qsvaR StartedAt: 2024-10-16 20:16:09 -0400 (Wed, 16 Oct 2024) EndedAt: 2024-10-16 20:27:17 -0400 (Wed, 16 Oct 2024) EllapsedTime: 668.4 seconds RetCode: 0 Status: OK PackageFile: qsvaR_1.8.0.tar.gz PackageFileSize: 3.432 MiB