Package: quantsmooth Version: 1.70.0 Command: /Library/Frameworks/R.framework/Resources/bin/R CMD INSTALL quantsmooth StartedAt: 2024-10-16 18:03:14 -0400 (Wed, 16 Oct 2024) EndedAt: 2024-10-16 18:03:22 -0400 (Wed, 16 Oct 2024) EllapsedTime: 8.4 seconds RetCode: 0 Status: OK