Package: quantsmooth Version: 1.70.0 Command: /Library/Frameworks/R.framework/Resources/bin/R CMD check --install=check:quantsmooth.install-out.txt --library=/Library/Frameworks/R.framework/Resources/library --no-vignettes --timings quantsmooth_1.70.0.tar.gz StartedAt: 2024-10-17 11:22:53 -0400 (Thu, 17 Oct 2024) EndedAt: 2024-10-17 11:24:42 -0400 (Thu, 17 Oct 2024) EllapsedTime: 109.7 seconds RetCode: 0 Status: OK CheckDir: quantsmooth.Rcheck Warnings: 0