Package: quantsmooth Version: 1.70.0 Command: rm -rf quantsmooth.buildbin-libdir && mkdir quantsmooth.buildbin-libdir && F:\biocbuild\bbs-3.19-bioc\R\bin\R.exe CMD INSTALL --build --library=quantsmooth.buildbin-libdir quantsmooth_1.70.0.tar.gz StartedAt: 2024-06-27 08:43:40 -0400 (Thu, 27 Jun 2024) EndedAt: 2024-06-27 08:43:54 -0400 (Thu, 27 Jun 2024) EllapsedTime: 14.3 seconds RetCode: 0 Status: OK PackageFile: quantsmooth_1.70.0.zip PackageFileSize: 315.5 KiB