Package: quantsmooth Version: 1.70.0 Command: chmod a+r quantsmooth -R && E:\biocbuild\bbs-3.19-bioc\R\bin\R.exe CMD build --keep-empty-dirs --no-resave-data quantsmooth StartedAt: 2024-10-16 21:18:21 -0400 (Wed, 16 Oct 2024) EndedAt: 2024-10-16 21:18:39 -0400 (Wed, 16 Oct 2024) EllapsedTime: 17.9 seconds RetCode: 0 Status: OK PackageFile: quantsmooth_1.70.0.tar.gz PackageFileSize: 230.5 KiB