Package: quantsmooth Version: 1.70.0 Command: E:\biocbuild\bbs-3.19-bioc\R\bin\R.exe CMD INSTALL quantsmooth StartedAt: 2024-10-16 17:01:54 -0400 (Wed, 16 Oct 2024) EndedAt: 2024-10-16 17:02:15 -0400 (Wed, 16 Oct 2024) EllapsedTime: 20.2 seconds RetCode: 0 Status: OK