Package: qusage Version: 2.38.0 Command: rm -rf qusage.buildbin-libdir && mkdir qusage.buildbin-libdir && /Users/biocbuild/BBS/utils/build-universal.sh qusage_2.38.0.tar.gz /Library/Frameworks/R.framework/Resources/bin/R qusage.buildbin-libdir StartedAt: 2024-10-18 20:06:50 -0400 (Fri, 18 Oct 2024) EndedAt: 2024-10-18 20:07:06 -0400 (Fri, 18 Oct 2024) EllapsedTime: 16.0 seconds RetCode: 0 Status: OK PackageFile: qusage_2.38.0.tgz PackageFileSize: 9.83 MiB