Package: qusage Version: 2.38.0 Command: /home/biocbuild/R/R-beta-2024-04-15_r86425/bin/R CMD build --keep-empty-dirs --no-resave-data qusage StartedAt: 2024-05-09 02:45:14 -0000 (Thu, 09 May 2024) EndedAt: 2024-05-09 02:55:49 -0000 (Thu, 09 May 2024) EllapsedTime: 634.9 seconds RetCode: 0 Status: OK PackageFile: qusage_2.38.0.tar.gz PackageFileSize: 9.626 MiB