Package: qvalue Version: 2.36.0 Command: /Library/Frameworks/R.framework/Resources/bin/R CMD build --keep-empty-dirs --no-resave-data qvalue StartedAt: 2024-10-16 22:20:50 -0400 (Wed, 16 Oct 2024) EndedAt: 2024-10-16 22:21:30 -0400 (Wed, 16 Oct 2024) EllapsedTime: 39.8 seconds RetCode: 0 Status: OK PackageFile: qvalue_2.36.0.tar.gz PackageFileSize: 2.646 MiB