Package: qvalue Version: 2.36.0 Command: /Library/Frameworks/R.framework/Resources/bin/R CMD check --install=check:qvalue.install-out.txt --library=/Library/Frameworks/R.framework/Resources/library --no-vignettes --timings qvalue_2.36.0.tar.gz StartedAt: 2024-10-17 11:26:09 -0400 (Thu, 17 Oct 2024) EndedAt: 2024-10-17 11:27:51 -0400 (Thu, 17 Oct 2024) EllapsedTime: 102.7 seconds RetCode: 0 Status: OK CheckDir: qvalue.Rcheck Warnings: 0