Package: rBLAST Version: 1.0.0 Command: /home/biocbuild/R/R-beta-2024-04-15_r86425/bin/R CMD build --keep-empty-dirs --no-resave-data rBLAST StartedAt: 2024-05-09 02:50:01 -0000 (Thu, 09 May 2024) EndedAt: 2024-05-09 02:50:19 -0000 (Thu, 09 May 2024) EllapsedTime: 18.0 seconds RetCode: 0 Status: OK PackageFile: rBLAST_1.0.0.tar.gz PackageFileSize: 24.59 KiB