Package: rBLAST Version: 1.0.0 Command: rm -rf rBLAST.buildbin-libdir && mkdir rBLAST.buildbin-libdir && /Users/biocbuild/BBS/utils/build-universal.sh rBLAST_1.0.0.tar.gz /Library/Frameworks/R.framework/Resources/bin/R rBLAST.buildbin-libdir StartedAt: 2024-06-10 00:34:14 -0400 (Mon, 10 Jun 2024) EndedAt: 2024-06-10 00:34:29 -0400 (Mon, 10 Jun 2024) EllapsedTime: 14.7 seconds RetCode: 0 Status: OK PackageFile: rBLAST_1.0.0.tgz PackageFileSize: 47.36 KiB