Package: rBiopaxParser Version: 2.44.0 Command: chmod a+r rBiopaxParser -R && F:\biocbuild\bbs-3.19-bioc\R\bin\R.exe CMD build --keep-empty-dirs --no-resave-data rBiopaxParser StartedAt: 2024-06-26 21:16:12 -0400 (Wed, 26 Jun 2024) EndedAt: 2024-06-26 21:16:29 -0400 (Wed, 26 Jun 2024) EllapsedTime: 17.5 seconds RetCode: 0 Status: OK PackageFile: rBiopaxParser_2.44.0.tar.gz PackageFileSize: 769.3 KiB