Package: rBiopaxParser Version: 2.44.0 Command: rm -rf rBiopaxParser.buildbin-libdir && mkdir rBiopaxParser.buildbin-libdir && E:\biocbuild\bbs-3.19-bioc\R\bin\R.exe CMD INSTALL --build --library=rBiopaxParser.buildbin-libdir rBiopaxParser_2.44.0.tar.gz StartedAt: 2024-10-17 08:25:47 -0400 (Thu, 17 Oct 2024) EndedAt: 2024-10-17 08:27:14 -0400 (Thu, 17 Oct 2024) EllapsedTime: 86.9 seconds RetCode: 0 Status: OK PackageFile: rBiopaxParser_2.44.0.zip PackageFileSize: 739.3 KiB