Package: rGADEM Version: 2.52.0 Command: rm -rf rGADEM.buildbin-libdir && mkdir rGADEM.buildbin-libdir && /Users/biocbuild/BBS/utils/build-universal.sh rGADEM_2.52.0.tar.gz /Library/Frameworks/R.framework/Resources/bin/R rGADEM.buildbin-libdir StartedAt: 2024-06-11 12:48:06 -0400 (Tue, 11 Jun 2024) EndedAt: 2024-06-11 12:50:03 -0400 (Tue, 11 Jun 2024) EllapsedTime: 116.8 seconds RetCode: 0 Status: OK PackageFile: rGADEM_2.52.0.tgz PackageFileSize: 675.5 KiB