Package: rGADEM Version: 2.52.0 Command: /home/biocbuild/R/R-beta-2024-04-15_r86425/bin/R CMD build --keep-empty-dirs --no-resave-data rGADEM StartedAt: 2024-05-09 02:58:21 -0000 (Thu, 09 May 2024) EndedAt: 2024-05-09 03:00:03 -0000 (Thu, 09 May 2024) EllapsedTime: 102.1 seconds RetCode: 0 Status: OK PackageFile: rGADEM_2.52.0.tar.gz PackageFileSize: 370 KiB