Package: rGADEM Version: 2.52.0 Command: /home/biocbuild/R/R-beta-2024-04-15_r86425/bin/R CMD check --install=check:rGADEM.install-out.txt --library=/home/biocbuild/R/R-beta-2024-04-15_r86425/site-library --no-vignettes --timings rGADEM_2.52.0.tar.gz StartedAt: 2024-05-09 11:09:32 -0000 (Thu, 09 May 2024) EndedAt: 2024-05-09 11:14:53 -0000 (Thu, 09 May 2024) EllapsedTime: 321.7 seconds RetCode: 0 Status: WARNINGS CheckDir: rGADEM.Rcheck Warnings: 1