Package: rGADEM Version: 2.52.0 Command: /home/biocbuild/R/R-beta-2024-04-15_r86425/bin/R CMD INSTALL rGADEM StartedAt: 2024-05-08 20:26:15 -0000 (Wed, 08 May 2024) EndedAt: 2024-05-08 20:27:12 -0000 (Wed, 08 May 2024) EllapsedTime: 56.6 seconds RetCode: 0 Status: OK