Package: rGADEM Version: 2.52.0 Command: /Library/Frameworks/R.framework/Resources/bin/R CMD build --keep-empty-dirs --no-resave-data rGADEM StartedAt: 2024-10-16 22:33:21 -0400 (Wed, 16 Oct 2024) EndedAt: 2024-10-16 22:35:51 -0400 (Wed, 16 Oct 2024) EllapsedTime: 150.1 seconds RetCode: 0 Status: OK PackageFile: rGADEM_2.52.0.tar.gz PackageFileSize: 376.9 KiB