Package: rGADEM Version: 2.52.0 Command: rm -rf rGADEM.buildbin-libdir && mkdir rGADEM.buildbin-libdir && F:\biocbuild\bbs-3.19-bioc\R\bin\R.exe CMD INSTALL --build --library=rGADEM.buildbin-libdir rGADEM_2.52.0.tar.gz StartedAt: 2024-06-27 08:46:45 -0400 (Thu, 27 Jun 2024) EndedAt: 2024-06-27 08:47:57 -0400 (Thu, 27 Jun 2024) EllapsedTime: 72.2 seconds RetCode: 0 Status: OK PackageFile: rGADEM_2.52.0.zip PackageFileSize: 523.9 KiB