Package: rGADEM Version: 2.52.0 Command: chmod a+r rGADEM -R && F:\biocbuild\bbs-3.19-bioc\R\bin\R.exe CMD build --keep-empty-dirs --no-resave-data rGADEM StartedAt: 2024-06-26 21:22:01 -0400 (Wed, 26 Jun 2024) EndedAt: 2024-06-26 21:24:34 -0400 (Wed, 26 Jun 2024) EllapsedTime: 152.9 seconds RetCode: 0 Status: OK PackageFile: rGADEM_2.52.0.tar.gz PackageFileSize: 224.6 KiB