Package: rGADEM Version: 2.52.0 Command: F:\biocbuild\bbs-3.19-bioc\R\bin\R.exe CMD INSTALL rGADEM StartedAt: 2024-06-26 16:07:14 -0400 (Wed, 26 Jun 2024) EndedAt: 2024-06-26 16:08:23 -0400 (Wed, 26 Jun 2024) EllapsedTime: 68.8 seconds RetCode: 0 Status: OK