Package: rGADEM Version: 2.52.0 Command: chmod a+r rGADEM -R && E:\biocbuild\bbs-3.19-bioc\R\bin\R.exe CMD build --keep-empty-dirs --no-resave-data rGADEM StartedAt: 2024-10-16 21:29:35 -0400 (Wed, 16 Oct 2024) EndedAt: 2024-10-16 21:32:14 -0400 (Wed, 16 Oct 2024) EllapsedTime: 159.4 seconds RetCode: 0 Status: OK PackageFile: rGADEM_2.52.0.tar.gz PackageFileSize: 225.3 KiB