Package: rGADEM Version: 2.52.0 Command: E:\biocbuild\bbs-3.19-bioc\R\bin\R.exe CMD check --no-multiarch --install=check:rGADEM.install-out.txt --library=E:\biocbuild\bbs-3.19-bioc\R\library --no-vignettes --timings rGADEM_2.52.0.tar.gz StartedAt: 2024-10-17 05:01:10 -0400 (Thu, 17 Oct 2024) EndedAt: 2024-10-17 05:06:27 -0400 (Thu, 17 Oct 2024) EllapsedTime: 316.8 seconds RetCode: 0 Status: WARNINGS CheckDir: rGADEM.Rcheck Warnings: 1