Package: rGREAT Version: 2.6.0 Command: /Library/Frameworks/R.framework/Resources/bin/R CMD INSTALL rGREAT StartedAt: 2024-10-16 17:16:44 -0400 (Wed, 16 Oct 2024) EndedAt: 2024-10-16 17:17:38 -0400 (Wed, 16 Oct 2024) EllapsedTime: 54.5 seconds RetCode: 0 Status: OK