Package: rGREAT Version: 2.6.0 Command: /Library/Frameworks/R.framework/Resources/bin/R CMD check --install=check:rGREAT.install-out.txt --library=/Library/Frameworks/R.framework/Resources/library --no-vignettes --timings rGREAT_2.6.0.tar.gz StartedAt: 2024-10-17 11:51:39 -0400 (Thu, 17 Oct 2024) EndedAt: 2024-10-17 12:03:05 -0400 (Thu, 17 Oct 2024) EllapsedTime: 685.6 seconds RetCode: 0 Status: OK CheckDir: rGREAT.Rcheck Warnings: 0